BEGIN:VCALENDAR
VERSION:2.0
PRODID:-//hacksw/handcal//NONSGML v1.0//EN
CALSCALE:GREGORIAN
BEGIN:VEVENT
LOCATION:Girona
DESCRIPTION:
DTSTART:20160310T173000Z
DTEND:20160612T180000Z
SUMMARY:Exposició "Making Work" dins el Cicle La Cova. Sobre la Tècnica
URL;VALUE=URI:https://arquitectes.cat/ca/content/exposici%C3%B3-making-work-dins-el-cicle-la-cova-sobre-la-t%C3%A8cnica
DTSTAMP:20260425T200301Z
UID:69ed01d5ad005
END:VEVENT
END:VCALENDAR