BEGIN:VCALENDAR
VERSION:2.0
PRODID:-//hacksw/handcal//NONSGML v1.0//EN
CALSCALE:GREGORIAN
BEGIN:VEVENT
LOCATION:Barcelona
DESCRIPTION:
DTSTART:20160312T080000Z
DTEND:20160312T080000Z
SUMMARY:Pedalada per la part alta del Baix Llobregat
URL;VALUE=URI:https://arquitectes.cat/ca/content/pedalada-la-part-alta-del-baix-llobregat
DTSTAMP:20260426T034413Z
UID:69ed6ded60f72
END:VEVENT
END:VCALENDAR