BEGIN:VCALENDAR
VERSION:2.0
PRODID:-//hacksw/handcal//NONSGML v1.0//EN
CALSCALE:GREGORIAN
BEGIN:VEVENT
LOCATION:Barcelona
DESCRIPTION:
DTSTART:20160228T100000Z
DTEND:20160228T100000Z
SUMMARY:Debate y conclusiones de las Jornadas Arquitectura Cooperativa
URL;VALUE=URI:https://arquitectes.cat/ca/node/23778
DTSTAMP:20260425T215922Z
UID:69ed1d1a4eec1
END:VEVENT
END:VCALENDAR