BEGIN:VCALENDAR
VERSION:2.0
PRODID:-//hacksw/handcal//NONSGML v1.0//EN
CALSCALE:GREGORIAN
BEGIN:VEVENT
LOCATION:Tortosa
DESCRIPTION:
DTSTART:20160225T170000Z
DTEND:20160225T170000Z
SUMMARY:Conferència de Salvador Tarragó: "Entre Obradoiro e Praterías"
URL;VALUE=URI:https://arquitectes.cat/ca/content/confer%C3%A8ncia-de-salvador-tarrag%C3%B3-entre-obradoiro-e-prater%C3%ADas
DTSTAMP:20260422T221314Z
UID:69e92bda2f3f6
END:VEVENT
END:VCALENDAR