BEGIN:VCALENDAR
VERSION:2.0
PRODID:-//hacksw/handcal//NONSGML v1.0//EN
CALSCALE:GREGORIAN
BEGIN:VEVENT
LOCATION:Barcelona
DESCRIPTION:
DTSTART:20160224T143000Z
DTEND:20160224T143000Z
SUMMARY:Conferència de Matija Bevk (BEVK PEROVIC): "Own work"
URL;VALUE=URI:https://arquitectes.cat/ca/content/confer%C3%A8ncia-de-matija-bevk-bevk-perovic-own-work
DTSTAMP:20260419T230212Z
UID:69e542d4ea958
END:VEVENT
END:VCALENDAR