BEGIN:VCALENDAR
VERSION:2.0
PRODID:-//hacksw/handcal//NONSGML v1.0//EN
CALSCALE:GREGORIAN
BEGIN:VEVENT
LOCATION:Barcelona
DESCRIPTION:
DTSTART:20160211T163000Z
DTEND:20160214T210000Z
SUMMARY:ELISAVA presenta «MOENIA» en el Festival Llum Barcelona
URL;VALUE=URI:https://arquitectes.cat/ca/node/23715
DTSTAMP:20260419T235322Z
UID:69e54ed206eb2
END:VEVENT
END:VCALENDAR