BEGIN:VCALENDAR
VERSION:2.0
PRODID:-//hacksw/handcal//NONSGML v1.0//EN
CALSCALE:GREGORIAN
BEGIN:VEVENT
LOCATION:Barcelona
DESCRIPTION:
DTSTART:20160213T130000Z
DTEND:20160213T130000Z
SUMMARY:Lecture by Areti Markopoulou
URL;VALUE=URI:https://arquitectes.cat/ca/node/23700
DTSTAMP:20260420T001927Z
UID:69e554ef45195
END:VEVENT
END:VCALENDAR