BEGIN:VCALENDAR
VERSION:2.0
PRODID:-//hacksw/handcal//NONSGML v1.0//EN
CALSCALE:GREGORIAN
BEGIN:VEVENT
LOCATION:Barcelona
DESCRIPTION:
DTSTART:20160206T103000Z
DTEND:20160228T103000Z
SUMMARY:Taller familiar: Històries secretes d'un habitacle
URL;VALUE=URI:https://arquitectes.cat/ca/content/taller-familiar-hist%C3%B2ries-secretes-dun-habitacle
DTSTAMP:20260419T215011Z
UID:69e531f353abe
END:VEVENT
END:VCALENDAR