BEGIN:VCALENDAR
VERSION:2.0
PRODID:-//hacksw/handcal//NONSGML v1.0//EN
CALSCALE:GREGORIAN
BEGIN:VEVENT
LOCATION:Barcelona
DESCRIPTION:
DTSTART:20160210T170000Z
DTEND:20160210T170000Z
SUMMARY:Barozzi/Veiga & Arquitectura-G. Dos maneras de comunicar. Dos maneras de proyectar
URL;VALUE=URI:https://arquitectes.cat/ca/node/23633
DTSTAMP:20260420T031456Z
UID:69e57e1032299
END:VEVENT
END:VCALENDAR