BEGIN:VCALENDAR
VERSION:2.0
PRODID:-//hacksw/handcal//NONSGML v1.0//EN
CALSCALE:GREGORIAN
BEGIN:VEVENT
LOCATION:Barcelona
DESCRIPTION:
DTSTART:20160207T090000Z
DTEND:20160207T090000Z
SUMMARY:Guided tour to the Fundació Joan Miró building
URL;VALUE=URI:https://arquitectes.cat/ca/node/23610
DTSTAMP:20260419T173826Z
UID:69e4f6f2a8938
END:VEVENT
END:VCALENDAR