BEGIN:VCALENDAR
VERSION:2.0
PRODID:-//hacksw/handcal//NONSGML v1.0//EN
CALSCALE:GREGORIAN
BEGIN:VEVENT
LOCATION:Barcelona
DESCRIPTION:
DTSTART:20160211T170000Z
DTEND:20160211T170000Z
SUMMARY:Final de gira de los Premios AJAC IX y presentación de la nueva edición
URL;VALUE=URI:https://arquitectes.cat/ca/node/23606
DTSTAMP:20260419T150509Z
UID:69e4d305d934b
END:VEVENT
END:VCALENDAR