BEGIN:VCALENDAR
VERSION:2.0
PRODID:-//hacksw/handcal//NONSGML v1.0//EN
CALSCALE:GREGORIAN
BEGIN:VEVENT
LOCATION:Barcelona
DESCRIPTION:
DTSTART:20160201T170000Z
DTEND:20160509T190000Z
SUMMARY:Cicle de conferències "Foros 2016. Origen"
URL;VALUE=URI:https://arquitectes.cat/ca/content/cicle-de-confer%C3%A8ncies-foros-2016-origen
DTSTAMP:20260420T054953Z
UID:69e5a26163f88
END:VEVENT
END:VCALENDAR