BEGIN:VCALENDAR
VERSION:2.0
PRODID:-//hacksw/handcal//NONSGML v1.0//EN
CALSCALE:GREGORIAN
BEGIN:VEVENT
LOCATION:Barcelona
DESCRIPTION:
DTSTART:20160118T173000Z
DTEND:20160403T160000Z
SUMMARY:Una col·lecció per a un viatge. Promoció d'Arquitectes Barcelona 1960
URL;VALUE=URI:https://arquitectes.cat/ca/content/una-col%C2%B7lecci%C3%B3-un-viatge-promoci%C3%B3-darquitectes-barcelona-1960
DTSTAMP:20260425T162758Z
UID:69eccf6ed6999
END:VEVENT
END:VCALENDAR