BEGIN:VCALENDAR
VERSION:2.0
PRODID:-//hacksw/handcal//NONSGML v1.0//EN
CALSCALE:GREGORIAN
BEGIN:VEVENT
LOCATION:Barcelona
DESCRIPTION:
DTSTART:20160114T170000Z
DTEND:20160114T170000Z
SUMMARY:"Converses d'Arquitectura: Ironia"
URL;VALUE=URI:https://arquitectes.cat/ca/node/23491
DTSTAMP:20260420T034348Z
UID:69e584d4cfe4d
END:VEVENT
END:VCALENDAR