BEGIN:VCALENDAR
VERSION:2.0
PRODID:-//hacksw/handcal//NONSGML v1.0//EN
CALSCALE:GREGORIAN
BEGIN:VEVENT
LOCATION:Barcelona
DESCRIPTION:
DTSTART:20151130T090000Z
DTEND:20160130T180000Z
SUMMARY:Exposició "La Ciutat a les Mans. City to City Barcelona FAD Award" 
URL;VALUE=URI:https://arquitectes.cat/ca/content/exposici%C3%B3-la-ciutat-les-mans-city-city-barcelona-fad-award
DTSTAMP:20260422T225335Z
UID:69e9354f12863
END:VEVENT
END:VCALENDAR