BEGIN:VCALENDAR
VERSION:2.0
PRODID:-//hacksw/handcal//NONSGML v1.0//EN
CALSCALE:GREGORIAN
BEGIN:VEVENT
LOCATION:Barcelona
DESCRIPTION:
DTSTART:20151130T090000Z
DTEND:20160130T180000Z
SUMMARY:Exposición "La Ciutat a les Mans. City to City Barcelona FAD Award" 
URL;VALUE=URI:https://arquitectes.cat/ca/node/23435
DTSTAMP:20260420T003248Z
UID:69e55810841e8
END:VEVENT
END:VCALENDAR