BEGIN:VCALENDAR
VERSION:2.0
PRODID:-//hacksw/handcal//NONSGML v1.0//EN
CALSCALE:GREGORIAN
BEGIN:VEVENT
LOCATION:Barcelona
DESCRIPTION:
DTSTART:20151221T170000Z
DTEND:20151221T170000Z
SUMMARY:Presentación colección arquia/contextos
URL;VALUE=URI:https://arquitectes.cat/ca/node/23407
DTSTAMP:20260420T002148Z
UID:69e5557c0a688
END:VEVENT
END:VCALENDAR