BEGIN:VCALENDAR
VERSION:2.0
PRODID:-//hacksw/handcal//NONSGML v1.0//EN
CALSCALE:GREGORIAN
BEGIN:VEVENT
LOCATION:Barcelona
DESCRIPTION:
DTSTART:20151219T080000Z
DTEND:20151219T080000Z
SUMMARY:Pedalada per la gran Z (Collserola\, Diagonal i Litoral)
URL;VALUE=URI:https://arquitectes.cat/ca/content/pedalada-la-gran-z-collserola-diagonal-i-litoral
DTSTAMP:20260421T225937Z
UID:69e7e53946d48
END:VEVENT
END:VCALENDAR