BEGIN:VCALENDAR
VERSION:2.0
PRODID:-//hacksw/handcal//NONSGML v1.0//EN
CALSCALE:GREGORIAN
BEGIN:VEVENT
LOCATION:Barcelona
DESCRIPTION:
DTSTART:20151215T170000Z
DTEND:20160108T180000Z
SUMMARY:Exposició fotogràfica "Swiss positions"
URL;VALUE=URI:https://arquitectes.cat/ca/content/exposici%C3%B3-fotogr%C3%A0fica-swiss-positions
DTSTAMP:20260420T031425Z
UID:69e57df158d42
END:VEVENT
END:VCALENDAR