BEGIN:VCALENDAR
VERSION:2.0
PRODID:-//hacksw/handcal//NONSGML v1.0//EN
CALSCALE:GREGORIAN
BEGIN:VEVENT
LOCATION:Barcelona
DESCRIPTION:
DTSTART:20151215T170000Z
DTEND:20160108T180000Z
SUMMARY:Exposición fotográfica "Swiss positions"
URL;VALUE=URI:https://arquitectes.cat/ca/node/23395
DTSTAMP:20260419T152234Z
UID:69e4d71ad23c8
END:VEVENT
END:VCALENDAR