BEGIN:VCALENDAR
VERSION:2.0
PRODID:-//hacksw/handcal//NONSGML v1.0//EN
CALSCALE:GREGORIAN
BEGIN:VEVENT
LOCATION:Barcelona
DESCRIPTION:
DTSTART:20151211T170000Z
DTEND:20151211T170000Z
SUMMARY:9a sessió d'Ecumenòpolis: "Dancing about Architecture"
URL;VALUE=URI:https://arquitectes.cat/ca/content/9a-sessi%C3%B3-decumen%C3%B2polis-dancing-about-architecture
DTSTAMP:20260419T150323Z
UID:69e4d29b6c544
END:VEVENT
END:VCALENDAR