BEGIN:VCALENDAR
VERSION:2.0
PRODID:-//hacksw/handcal//NONSGML v1.0//EN
CALSCALE:GREGORIAN
BEGIN:VEVENT
LOCATION:Sant Cugat del Vallès
DESCRIPTION:
DTSTART:20151217T090000Z
DTEND:20151217T090000Z
SUMMARY:Gion A. Caminada - Lliçó Inaugural ETSAV 2015-2016
URL;VALUE=URI:https://arquitectes.cat/ca/content/gion-caminada-lli%C3%A7%C3%B3-inaugural-etsav-2015-2016
DTSTAMP:20260419T173742Z
UID:69e4f6c6d43c8
END:VEVENT
END:VCALENDAR