BEGIN:VCALENDAR
VERSION:2.0
PRODID:-//hacksw/handcal//NONSGML v1.0//EN
CALSCALE:GREGORIAN
BEGIN:VEVENT
LOCATION:Tortosa
DESCRIPTION:
DTSTART:20151201T080000Z
DTEND:20160131T130000Z
SUMMARY:Exposición "PFC  2002-2014"
URL;VALUE=URI:https://arquitectes.cat/ca/node/23377
DTSTAMP:20260419T150600Z
UID:69e4d33840a69
END:VEVENT
END:VCALENDAR