BEGIN:VCALENDAR
VERSION:2.0
PRODID:-//hacksw/handcal//NONSGML v1.0//EN
CALSCALE:GREGORIAN
BEGIN:VEVENT
LOCATION:Sant Cugat del Vallès
DESCRIPTION:
DTSTART:20151201T083000Z
DTEND:20151201T083000Z
SUMMARY:PECHAKUCHA Guanyadors i mencionats del concurs Passatges Metropolitans
URL;VALUE=URI:https://arquitectes.cat/ca/content/pechakucha-guanyadors-i-mencionats-del-concurs-passatges-metropolitans
DTSTAMP:20260419T162240Z
UID:69e4e5309390f
END:VEVENT
END:VCALENDAR