BEGIN:VCALENDAR
VERSION:2.0
PRODID:-//hacksw/handcal//NONSGML v1.0//EN
CALSCALE:GREGORIAN
BEGIN:VEVENT
LOCATION:Terrassa
DESCRIPTION:
DTSTART:20151212T101500Z
DTEND:20151212T101500Z
SUMMARY:Visita a las nuevas estacions de FFCC de Terrassa\, por Mora-Sanvisens Arquitectes
URL;VALUE=URI:https://arquitectes.cat/ca/node/23319
DTSTAMP:20260425T234404Z
UID:69ed35a4387ed
END:VEVENT
END:VCALENDAR