BEGIN:VCALENDAR
VERSION:2.0
PRODID:-//hacksw/handcal//NONSGML v1.0//EN
CALSCALE:GREGORIAN
BEGIN:VEVENT
LOCATION:Barcelona
DESCRIPTION:
DTSTART:20151127T070000Z
DTEND:20151129T123000Z
SUMMARY:I Simposi Internacional d’Arqueologia del Born CC
URL;VALUE=URI:https://arquitectes.cat/ca/content/i-simposi-internacional-d%E2%80%99arqueologia-del-born-cc
DTSTAMP:20260419T215246Z
UID:69e5328ece2f7
END:VEVENT
END:VCALENDAR