BEGIN:VCALENDAR
VERSION:2.0
PRODID:-//hacksw/handcal//NONSGML v1.0//EN
CALSCALE:GREGORIAN
BEGIN:VEVENT
LOCATION:Barcelona
DESCRIPTION:
DTSTART:20151201T170000Z
DTEND:20151201T170000Z
SUMMARY:"El bisbe\, l'arquitecte i el baldaquí. Gaudí a la Catedral de Mallorca"
URL;VALUE=URI:https://arquitectes.cat/ca/content/el-bisbe-larquitecte-i-el-baldaqu%C3%AD-gaud%C3%AD-la-catedral-de-mallorca
DTSTAMP:20260419T150239Z
UID:69e4d26fe5722
END:VEVENT
END:VCALENDAR