BEGIN:VCALENDAR
VERSION:2.0
PRODID:-//hacksw/handcal//NONSGML v1.0//EN
CALSCALE:GREGORIAN
BEGIN:VEVENT
LOCATION:Manresa
DESCRIPTION:
DTSTART:20151121T070000Z
DTEND:20151121T070000Z
SUMMARY:Visita a l'arquitectura tradicional de les Comarques Centrals: El Bages i El Moianès
URL;VALUE=URI:https://arquitectes.cat/ca/content/visita-larquitectura-tradicional-de-les-comarques-centrals-el-bages-i-el-moian%C3%A8s
DTSTAMP:20260419T145416Z
UID:69e4d078b47c8
END:VEVENT
END:VCALENDAR