BEGIN:VCALENDAR
VERSION:2.0
PRODID:-//hacksw/handcal//NONSGML v1.0//EN
CALSCALE:GREGORIAN
BEGIN:VEVENT
LOCATION:Barcelona
DESCRIPTION:
DTSTART:20151203T080000Z
DTEND:20151203T080000Z
SUMMARY:Jornada “Infancia y espacio público” 
URL;VALUE=URI:https://arquitectes.cat/ca/node/22939
DTSTAMP:20260419T163616Z
UID:69e4e86045a24
END:VEVENT
END:VCALENDAR