BEGIN:VCALENDAR
VERSION:2.0
PRODID:-//hacksw/handcal//NONSGML v1.0//EN
CALSCALE:GREGORIAN
BEGIN:VEVENT
LOCATION:Barcelona
DESCRIPTION:
DTSTART:20151127T173000Z
DTEND:20151127T173000Z
SUMMARY:Presentació del llibre "Barcelona\, Ciutat Vella"
URL;VALUE=URI:https://arquitectes.cat/ca/content/presentaci%C3%B3-del-llibre-barcelona-ciutat-vella
DTSTAMP:20260420T033819Z
UID:69e5838b9fdd0
END:VEVENT
END:VCALENDAR