BEGIN:VCALENDAR
VERSION:2.0
PRODID:-//hacksw/handcal//NONSGML v1.0//EN
CALSCALE:GREGORIAN
BEGIN:VEVENT
LOCATION:Barcelona
DESCRIPTION:
DTSTART:20151117T080000Z
DTEND:20151210T180000Z
SUMMARY:Colecciones COAC.06 / Antoni Maria Gallissà
URL;VALUE=URI:https://arquitectes.cat/ca/node/22935
DTSTAMP:20260419T221609Z
UID:69e5380945e93
END:VEVENT
END:VCALENDAR