BEGIN:VCALENDAR
VERSION:2.0
PRODID:-//hacksw/handcal//NONSGML v1.0//EN
CALSCALE:GREGORIAN
BEGIN:VEVENT
LOCATION:Barcelona
DESCRIPTION:
DTSTART:20151113T123000Z
DTEND:20151113T123000Z
SUMMARY:MBArch Lectures: JUAN ANTONIO MÓDENES. La globalización de la calle mayor
URL;VALUE=URI:https://arquitectes.cat/ca/content/mbarch-lectures-juan-antonio-m%C3%B3denes-la-globalizaci%C3%B3n-de-la-calle-mayor
DTSTAMP:20260419T200016Z
UID:69e518308a48e
END:VEVENT
END:VCALENDAR