BEGIN:VCALENDAR
VERSION:2.0
PRODID:-//hacksw/handcal//NONSGML v1.0//EN
CALSCALE:GREGORIAN
BEGIN:VEVENT
LOCATION:Barcelona
DESCRIPTION:
DTSTART:20151114T194500Z
DTEND:20151114T194500Z
SUMMARY:Reportatge sobre arquitectura i natura: "Dibuixant el paisatge"
URL;VALUE=URI:https://arquitectes.cat/ca/content/reportatge-sobre-arquitectura-i-natura-dibuixant-el-paisatge
DTSTAMP:20260419T214528Z
UID:69e530d8b53a9
END:VEVENT
END:VCALENDAR