BEGIN:VCALENDAR
VERSION:2.0
PRODID:-//hacksw/handcal//NONSGML v1.0//EN
CALSCALE:GREGORIAN
BEGIN:VEVENT
LOCATION:Tortosa
DESCRIPTION:
DTSTART:20151112T093000Z
DTEND:20151112T093000Z
SUMMARY:Xerrada: "GATCPAC. De l'arquitectura a la revolució"
URL;VALUE=URI:https://arquitectes.cat/ca/content/xerrada-gatcpac-de-larquitectura-la-revoluci%C3%B3
DTSTAMP:20260419T183023Z
UID:69e5031f2c633
END:VEVENT
END:VCALENDAR