BEGIN:VCALENDAR
VERSION:2.0
PRODID:-//hacksw/handcal//NONSGML v1.0//EN
CALSCALE:GREGORIAN
BEGIN:VEVENT
LOCATION:Barcelona
DESCRIPTION:
DTSTART:20151103T140000Z
DTEND:20151105T173000Z
SUMMARY:Mesas Think Tank 4x4 sobre regeneración urbana
URL;VALUE=URI:https://arquitectes.cat/ca/node/22863
DTSTAMP:20260420T034430Z
UID:69e584fe1403b
END:VEVENT
END:VCALENDAR