BEGIN:VCALENDAR
VERSION:2.0
PRODID:-//hacksw/handcal//NONSGML v1.0//EN
CALSCALE:GREGORIAN
BEGIN:VEVENT
LOCATION:Barcelona
DESCRIPTION:
DTSTART:20151121T090000Z
DTEND:20151121T090000Z
SUMMARY:Tallers infantils d'arquitectura: "Mirades de ciutat"
URL;VALUE=URI:https://arquitectes.cat/ca/content/tallers-infantils-darquitectura-mirades-de-ciutat
DTSTAMP:20260419T155405Z
UID:69e4de7d79efd
END:VEVENT
END:VCALENDAR