BEGIN:VCALENDAR
VERSION:2.0
PRODID:-//hacksw/handcal//NONSGML v1.0//EN
CALSCALE:GREGORIAN
BEGIN:VEVENT
LOCATION:
DESCRIPTION:
DTSTART:20150109T101500Z
DTEND:20150109T101500Z
SUMMARY:DEBATE ABIERTO COAC. Proyecto Bulli Foundation
URL;VALUE=URI:https://arquitectes.cat/ca/node/21330
DTSTAMP:20260425T182213Z
UID:69ecea3547a56
END:VEVENT
END:VCALENDAR