BEGIN:VCALENDAR
VERSION:2.0
PRODID:-//hacksw/handcal//NONSGML v1.0//EN
CALSCALE:GREGORIAN
BEGIN:VEVENT
LOCATION:
DESCRIPTION:
DTSTART:20150124T081500Z
DTEND:20150124T081500Z
SUMMARY:Visita a Palamós
URL;VALUE=URI:https://arquitectes.cat/ca/node/21326
DTSTAMP:20260426T054352Z
UID:69ed89f838532
END:VEVENT
END:VCALENDAR