BEGIN:VCALENDAR
VERSION:2.0
PRODID:-//hacksw/handcal//NONSGML v1.0//EN
CALSCALE:GREGORIAN
BEGIN:VEVENT
LOCATION:
DESCRIPTION:
DTSTART:20150209T093000Z
DTEND:20150209T093000Z
SUMMARY:Exposició "Vertical Architecture"
URL;VALUE=URI:https://arquitectes.cat/ca/content/exposici%C3%B3-vertical-architecture
DTSTAMP:20260422T122956Z
UID:69e8a32492c02
END:VEVENT
END:VCALENDAR