BEGIN:VCALENDAR
VERSION:2.0
PRODID:-//hacksw/handcal//NONSGML v1.0//EN
CALSCALE:GREGORIAN
BEGIN:VEVENT
LOCATION:
DESCRIPTION:
DTSTART:20150223T113000Z
DTEND:20150223T113000Z
SUMMARY:Debat COAC. Sobre la Devesa
URL;VALUE=URI:https://arquitectes.cat/ca/content/debat-coac-sobre-la-devesa
DTSTAMP:20260422T121109Z
UID:69e89ebd317c3
END:VEVENT
END:VCALENDAR