BEGIN:VCALENDAR
VERSION:2.0
PRODID:-//hacksw/handcal//NONSGML v1.0//EN
CALSCALE:GREGORIAN
BEGIN:VEVENT
LOCATION:
DESCRIPTION:
DTSTART:20150305T170000Z
DTEND:20150305T170000Z
SUMMARY:Els nous usos del patrimoni industrial català
URL;VALUE=URI:https://arquitectes.cat/ca/content/els-nous-usos-del-patrimoni-industrial-catal%C3%A0
DTSTAMP:20260419T235742Z
UID:69e54fd6db004
END:VEVENT
END:VCALENDAR