BEGIN:VCALENDAR
VERSION:2.0
PRODID:-//hacksw/handcal//NONSGML v1.0//EN
CALSCALE:GREGORIAN
BEGIN:VEVENT
LOCATION:
DESCRIPTION:
DTSTART:20150312T183000Z
DTEND:20150312T183000Z
SUMMARY:InTESIS: La geometria de l'Amfiteatre de Tarragona
URL;VALUE=URI:https://arquitectes.cat/ca/content/intesis-la-geometria-de-lamfiteatre-de-tarragona
DTSTAMP:20260419T155608Z
UID:69e4def8ccc78
END:VEVENT
END:VCALENDAR