BEGIN:VCALENDAR
VERSION:2.0
PRODID:-//hacksw/handcal//NONSGML v1.0//EN
CALSCALE:GREGORIAN
BEGIN:VEVENT
LOCATION:
DESCRIPTION:
DTSTART:20150312T183000Z
DTEND:20150312T183000Z
SUMMARY:InTESIS: La geometría del Anfiteatro de Tarragona
URL;VALUE=URI:https://arquitectes.cat/ca/node/21220
DTSTAMP:20260419T164903Z
UID:69e4eb5fb06df
END:VEVENT
END:VCALENDAR