BEGIN:VCALENDAR
VERSION:2.0
PRODID:-//hacksw/handcal//NONSGML v1.0//EN
CALSCALE:GREGORIAN
BEGIN:VEVENT
LOCATION:
DESCRIPTION:
DTSTART:20150305T170000Z
DTEND:20150305T170000Z
SUMMARY:Los nuevos usos del patrimonio industrial catalán
URL;VALUE=URI:https://arquitectes.cat/ca/node/21217
DTSTAMP:20260419T160230Z
UID:69e4e07627bc6
END:VEVENT
END:VCALENDAR