BEGIN:VCALENDAR
VERSION:2.0
PRODID:-//hacksw/handcal//NONSGML v1.0//EN
CALSCALE:GREGORIAN
BEGIN:VEVENT
LOCATION:
DESCRIPTION:
DTSTART:20150311T090000Z
DTEND:20150413T100000Z
SUMMARY:Cent anys a l'avantguarda de la restauració monumental SSCM/SPAL
URL;VALUE=URI:https://arquitectes.cat/ca/content/cent-anys-lavantguarda-de-la-restauraci%C3%B3-monumental-sscmspal
DTSTAMP:20260423T090908Z
UID:69e9c5946eb28
END:VEVENT
END:VCALENDAR