BEGIN:VCALENDAR
VERSION:2.0
PRODID:-//hacksw/handcal//NONSGML v1.0//EN
CALSCALE:GREGORIAN
BEGIN:VEVENT
LOCATION:
DESCRIPTION:
DTSTART:20150312T140000Z
DTEND:20150515T140000Z
SUMMARY:”Prisión mental”\, una reflexión sobre los límites de la mente
URL;VALUE=URI:https://arquitectes.cat/ca/node/21199
DTSTAMP:20260425T162204Z
UID:69ecce0c79ff5
END:VEVENT
END:VCALENDAR