BEGIN:VCALENDAR
VERSION:2.0
PRODID:-//hacksw/handcal//NONSGML v1.0//EN
CALSCALE:GREGORIAN
BEGIN:VEVENT
LOCATION:
DESCRIPTION:
DTSTART:20150415T170000Z
DTEND:20150415T170000Z
SUMMARY:Taula rodona i presentació del llibre Habitatge metropolità 2004/2014
URL;VALUE=URI:https://arquitectes.cat/ca/content/taula-rodona-i-presentaci%C3%B3-del-llibre-habitatge-metropolit%C3%A0-20042014
DTSTAMP:20260426T034231Z
UID:69ed6d8751f2c
END:VEVENT
END:VCALENDAR