BEGIN:VCALENDAR
VERSION:2.0
PRODID:-//hacksw/handcal//NONSGML v1.0//EN
CALSCALE:GREGORIAN
BEGIN:VEVENT
LOCATION:
DESCRIPTION:
DTSTART:20150415T170000Z
DTEND:20150415T170000Z
SUMMARY:Mesa redonda y presentación del libro Vivienda metropolitana 2004/2014
URL;VALUE=URI:https://arquitectes.cat/ca/node/21126
DTSTAMP:20260420T005149Z
UID:69e55c852735b
END:VEVENT
END:VCALENDAR