BEGIN:VCALENDAR
VERSION:2.0
PRODID:-//hacksw/handcal//NONSGML v1.0//EN
CALSCALE:GREGORIAN
BEGIN:VEVENT
LOCATION:
DESCRIPTION:
DTSTART:20150414T170000Z
DTEND:20150414T170000Z
SUMMARY:Presentación del libro "Barcelona desconeguda”
URL;VALUE=URI:https://arquitectes.cat/ca/node/21114
DTSTAMP:20260419T223738Z
UID:69e53d126c725
END:VEVENT
END:VCALENDAR