BEGIN:VCALENDAR
VERSION:2.0
PRODID:-//hacksw/handcal//NONSGML v1.0//EN
CALSCALE:GREGORIAN
BEGIN:VEVENT
LOCATION:
DESCRIPTION:
DTSTART:20150415T080000Z
DTEND:20150506T170000Z
SUMMARY:Exposició i lliurament de premis del Concurs Illa Eficient
URL;VALUE=URI:https://arquitectes.cat/ca/content/exposici%C3%B3-i-lliurament-de-premis-del-concurs-illa-eficient
DTSTAMP:20260426T054216Z
UID:69ed899860349
END:VEVENT
END:VCALENDAR